BEGIN:VCALENDAR
VERSION:2.0
PRODID:-//Anglican Parish of New London - ECPv5.14.1//NONSGML v1.0//EN
CALSCALE:GREGORIAN
METHOD:PUBLISH
X-WR-CALNAME:Anglican Parish of New London
X-ORIGINAL-URL:http://www.nlparish.org
X-WR-CALDESC:Events for Anglican Parish of New London
BEGIN:VTIMEZONE
TZID:America/Halifax
BEGIN:DAYLIGHT
TZOFFSETFROM:-0300
TZOFFSETTO:-0300
TZNAME:ADT
DTSTART:20260101T000000
END:DAYLIGHT
END:VTIMEZONE
BEGIN:VEVENT
DTSTART;VALUE=DATE:20260524
DTEND;VALUE=DATE:20260525
DTSTAMP:20260419T203541
CREATED:20260415T160346Z
LAST-MODIFIED:20260415T160346Z
UID:4273-1779580800-1779667199@www.nlparish.org
SUMMARY:Worship Times
DESCRIPTION:9 am – St. Thomas’ HE; 11 am – St. Mark’s HE; 11 am – St. Stephen’s MP
URL:http://www.nlparish.org/index.php/event/worship-times-290/
END:VEVENT
END:VCALENDAR