BEGIN:VCALENDAR
VERSION:2.0
PRODID:-//Anglican Parish of New London - ECPv5.14.1//NONSGML v1.0//EN
CALSCALE:GREGORIAN
METHOD:PUBLISH
X-WR-CALNAME:Anglican Parish of New London
X-ORIGINAL-URL:http://www.nlparish.org
X-WR-CALDESC:Events for Anglican Parish of New London
BEGIN:VTIMEZONE
TZID:America/Halifax
BEGIN:DAYLIGHT
TZOFFSETFROM:-0300
TZOFFSETTO:-0300
TZNAME:ADT
DTSTART:20240101T000000
END:DAYLIGHT
END:VTIMEZONE
BEGIN:VEVENT
DTSTART;TZID=America/Halifax:20241121T090000
DTEND;TZID=America/Halifax:20241121T090000
DTSTAMP:20260423T134919
CREATED:20241023T151236Z
LAST-MODIFIED:20241023T151236Z
UID:3218-1732179600-1732179600@www.nlparish.org
SUMMARY:Meditation Group
DESCRIPTION:At the Rectory
URL:http://www.nlparish.org/index.php/event/meditation-group-12/
END:VEVENT
BEGIN:VEVENT
DTSTART;TZID=America/Halifax:20241121T094500
DTEND;TZID=America/Halifax:20241121T104500
DTSTAMP:20260423T134919
CREATED:20241023T151443Z
LAST-MODIFIED:20241023T151443Z
UID:3226-1732182300-1732185900@www.nlparish.org
SUMMARY:Bible Study
DESCRIPTION:At the Rectory
URL:http://www.nlparish.org/index.php/event/bible-study-144/
END:VEVENT
END:VCALENDAR