BEGIN:VCALENDAR
VERSION:2.0
PRODID:-//Anglican Parish of New London - ECPv5.14.1//NONSGML v1.0//EN
CALSCALE:GREGORIAN
METHOD:PUBLISH
X-WR-CALNAME:Anglican Parish of New London
X-ORIGINAL-URL:http://www.nlparish.org
X-WR-CALDESC:Events for Anglican Parish of New London
BEGIN:VTIMEZONE
TZID:America/Halifax
BEGIN:DAYLIGHT
TZOFFSETFROM:-0300
TZOFFSETTO:-0300
TZNAME:ADT
DTSTART:20240101T000000
END:DAYLIGHT
END:VTIMEZONE
BEGIN:VEVENT
DTSTART;TZID=America/Halifax:20241114T090000
DTEND;TZID=America/Halifax:20241114T090000
DTSTAMP:20260423T135124
CREATED:20241023T151131Z
LAST-MODIFIED:20241023T151131Z
UID:3215-1731574800-1731574800@www.nlparish.org
SUMMARY:Meditation Group
DESCRIPTION:At the Rectory
URL:http://www.nlparish.org/index.php/event/meditation-group-11/
END:VEVENT
BEGIN:VEVENT
DTSTART;TZID=America/Halifax:20241114T094500
DTEND;TZID=America/Halifax:20241114T104500
DTSTAMP:20260423T135124
CREATED:20241023T151418Z
LAST-MODIFIED:20241023T151418Z
UID:3224-1731577500-1731581100@www.nlparish.org
SUMMARY:Bible Study
DESCRIPTION:At the Rectory
URL:http://www.nlparish.org/index.php/event/bible-study-143/
END:VEVENT
END:VCALENDAR