BEGIN:VCALENDAR
VERSION:2.0
PRODID:-//Anglican Parish of New London - ECPv5.14.1//NONSGML v1.0//EN
CALSCALE:GREGORIAN
METHOD:PUBLISH
X-WR-CALNAME:Anglican Parish of New London
X-ORIGINAL-URL:http://www.nlparish.org
X-WR-CALDESC:Events for Anglican Parish of New London
BEGIN:VTIMEZONE
TZID:America/Halifax
BEGIN:DAYLIGHT
TZOFFSETFROM:-0300
TZOFFSETTO:-0300
TZNAME:ADT
DTSTART:20240101T000000
END:DAYLIGHT
END:VTIMEZONE
BEGIN:VEVENT
DTSTART;VALUE=DATE:20241110
DTEND;VALUE=DATE:20241111
DTSTAMP:20260423T135226
CREATED:20241016T143518Z
LAST-MODIFIED:20241016T143518Z
UID:3204-1731196800-1731283199@www.nlparish.org
SUMMARY:Worship Times
DESCRIPTION:9 am – St. Stephen’s MP; 11 am – St. Mark’s MP; 11 am – St. Thomas’ HE
URL:http://www.nlparish.org/index.php/event/worship-times-229/
END:VEVENT
END:VCALENDAR