BEGIN:VCALENDAR
VERSION:2.0
PRODID:-//Anglican Parish of New London - ECPv5.14.1//NONSGML v1.0//EN
CALSCALE:GREGORIAN
METHOD:PUBLISH
X-WR-CALNAME:Anglican Parish of New London
X-ORIGINAL-URL:http://www.nlparish.org
X-WR-CALDESC:Events for Anglican Parish of New London
BEGIN:VTIMEZONE
TZID:America/Halifax
BEGIN:DAYLIGHT
TZOFFSETFROM:-0300
TZOFFSETTO:-0300
TZNAME:ADT
DTSTART:20240101T000000
END:DAYLIGHT
END:VTIMEZONE
BEGIN:VEVENT
DTSTART;TZID=America/Halifax:20241024T090000
DTEND;TZID=America/Halifax:20241024T090000
DTSTAMP:20260423T121333
CREATED:20240918T132427Z
LAST-MODIFIED:20241023T151952Z
UID:3161-1729760400-1729760400@www.nlparish.org
SUMMARY:Meditation Group
DESCRIPTION:At the Rectory
URL:http://www.nlparish.org/index.php/event/meditation-group-8/
END:VEVENT
BEGIN:VEVENT
DTSTART;TZID=America/Halifax:20241024T094500
DTEND;TZID=America/Halifax:20241024T104500
DTSTAMP:20260423T121333
CREATED:20240918T132632Z
LAST-MODIFIED:20241023T152022Z
UID:3171-1729763100-1729766700@www.nlparish.org
SUMMARY:Bible Study
DESCRIPTION:At the Rectory
URL:http://www.nlparish.org/index.php/event/bible-study-140/
END:VEVENT
END:VCALENDAR