BEGIN:VCALENDAR
VERSION:2.0
PRODID:-//Anglican Parish of New London - ECPv5.14.1//NONSGML v1.0//EN
CALSCALE:GREGORIAN
METHOD:PUBLISH
X-WR-CALNAME:Anglican Parish of New London
X-ORIGINAL-URL:http://www.nlparish.org
X-WR-CALDESC:Events for Anglican Parish of New London
BEGIN:VTIMEZONE
TZID:America/Halifax
BEGIN:DAYLIGHT
TZOFFSETFROM:-0300
TZOFFSETTO:-0300
TZNAME:ADT
DTSTART:20240101T000000
END:DAYLIGHT
END:VTIMEZONE
BEGIN:VEVENT
DTSTART;TZID=America/Halifax:20241017T091500
DTEND;TZID=America/Halifax:20241017T094500
DTSTAMP:20260423T121134
CREATED:20240918T132359Z
LAST-MODIFIED:20240918T132359Z
UID:3159-1729156500-1729158300@www.nlparish.org
SUMMARY:Meditation Group
DESCRIPTION:At St. Mark’s
URL:http://www.nlparish.org/index.php/event/meditation-group-7/
END:VEVENT
BEGIN:VEVENT
DTSTART;TZID=America/Halifax:20241017T100000
DTEND;TZID=America/Halifax:20241017T110000
DTSTAMP:20260423T121134
CREATED:20240918T132609Z
LAST-MODIFIED:20240918T132609Z
UID:3169-1729159200-1729162800@www.nlparish.org
SUMMARY:Bible Study
DESCRIPTION:At St. Mark’s
URL:http://www.nlparish.org/index.php/event/bible-study-139/
END:VEVENT
END:VCALENDAR