BEGIN:VCALENDAR
VERSION:2.0
PRODID:-//Anglican Parish of New London - ECPv5.14.1//NONSGML v1.0//EN
CALSCALE:GREGORIAN
METHOD:PUBLISH
X-WR-CALNAME:Anglican Parish of New London
X-ORIGINAL-URL:http://www.nlparish.org
X-WR-CALDESC:Events for Anglican Parish of New London
BEGIN:VTIMEZONE
TZID:America/Halifax
BEGIN:DAYLIGHT
TZOFFSETFROM:-0300
TZOFFSETTO:-0300
TZNAME:ADT
DTSTART:20240101T000000
END:DAYLIGHT
END:VTIMEZONE
BEGIN:VEVENT
DTSTART;TZID=America/Halifax:20241010T091500
DTEND;TZID=America/Halifax:20241010T094500
DTSTAMP:20260423T121230
CREATED:20240918T132330Z
LAST-MODIFIED:20240918T132330Z
UID:3157-1728551700-1728553500@www.nlparish.org
SUMMARY:Meditation Group
DESCRIPTION:At St. Mark’s
URL:http://www.nlparish.org/index.php/event/meditation-group-6/
END:VEVENT
BEGIN:VEVENT
DTSTART;TZID=America/Halifax:20241010T100000
DTEND;TZID=America/Halifax:20241010T110000
DTSTAMP:20260423T121230
CREATED:20240918T132543Z
LAST-MODIFIED:20240918T132543Z
UID:3167-1728554400-1728558000@www.nlparish.org
SUMMARY:Bible Study
DESCRIPTION:At St. Mark’s
URL:http://www.nlparish.org/index.php/event/bible-study-138/
END:VEVENT
END:VCALENDAR