BEGIN:VCALENDAR
VERSION:2.0
PRODID:-//Anglican Parish of New London - ECPv5.14.1//NONSGML v1.0//EN
CALSCALE:GREGORIAN
METHOD:PUBLISH
X-WR-CALNAME:Anglican Parish of New London
X-ORIGINAL-URL:http://www.nlparish.org
X-WR-CALDESC:Events for Anglican Parish of New London
BEGIN:VTIMEZONE
TZID:America/Halifax
BEGIN:DAYLIGHT
TZOFFSETFROM:-0300
TZOFFSETTO:-0300
TZNAME:ADT
DTSTART:20240101T000000
END:DAYLIGHT
END:VTIMEZONE
BEGIN:VEVENT
DTSTART;VALUE=DATE:20240721
DTEND;VALUE=DATE:20240722
DTSTAMP:20260423T074127
CREATED:20240612T141536Z
LAST-MODIFIED:20240612T141536Z
UID:3021-1721520000-1721606399@www.nlparish.org
SUMMARY:Worship Times
DESCRIPTION:9 am – St. Mark’s MP; 11 am – St. Stephen’s HE; 11 am – St. Thomas’ MP
URL:http://www.nlparish.org/index.php/event/worship-times-215/
END:VEVENT
END:VCALENDAR