BEGIN:VCALENDAR
VERSION:2.0
PRODID:-//Anglican Parish of New London - ECPv5.14.1//NONSGML v1.0//EN
CALSCALE:GREGORIAN
METHOD:PUBLISH
X-WR-CALNAME:Anglican Parish of New London
X-ORIGINAL-URL:http://www.nlparish.org
X-WR-CALDESC:Events for Anglican Parish of New London
BEGIN:VTIMEZONE
TZID:America/Halifax
BEGIN:DAYLIGHT
TZOFFSETFROM:-0300
TZOFFSETTO:-0300
TZNAME:ADT
DTSTART:20240101T000000
END:DAYLIGHT
END:VTIMEZONE
BEGIN:VEVENT
DTSTART;TZID=America/Halifax:20240630T110000
DTEND;TZID=America/Halifax:20240630T110000
DTSTAMP:20260423T055911
CREATED:20240605T160329Z
LAST-MODIFIED:20240612T141133Z
UID:3012-1719745200-1719745200@www.nlparish.org
SUMMARY:Worship Time
DESCRIPTION:11 am – Parish Worship at St. Thomas’ – 250th Anniversary Celebration \n1:30-4:30 pm – Community activities\, displays\, games\, Historical talks
URL:http://www.nlparish.org/index.php/event/worship-time-18/
END:VEVENT
END:VCALENDAR