BEGIN:VCALENDAR
VERSION:2.0
PRODID:-//Anglican Parish of New London - ECPv5.14.1//NONSGML v1.0//EN
CALSCALE:GREGORIAN
METHOD:PUBLISH
X-WR-CALNAME:Anglican Parish of New London
X-ORIGINAL-URL:http://www.nlparish.org
X-WR-CALDESC:Events for Anglican Parish of New London
BEGIN:VTIMEZONE
TZID:America/Halifax
BEGIN:DAYLIGHT
TZOFFSETFROM:-0300
TZOFFSETTO:-0300
TZNAME:ADT
DTSTART:20230101T000000
END:DAYLIGHT
END:VTIMEZONE
BEGIN:VEVENT
DTSTART;TZID=America/Halifax:20231127T190000
DTEND;TZID=America/Halifax:20231127T190000
DTSTAMP:20260422T175257
CREATED:20231115T172114Z
LAST-MODIFIED:20231115T172114Z
UID:2672-1701111600-1701111600@www.nlparish.org
SUMMARY:Kensington & Area Christian Council
DESCRIPTION:At Kensington United Church
URL:http://www.nlparish.org/index.php/event/kensington-area-christian-council-6/
END:VEVENT
END:VCALENDAR