BEGIN:VCALENDAR
VERSION:2.0
PRODID:-//Anglican Parish of New London - ECPv5.14.1//NONSGML v1.0//EN
CALSCALE:GREGORIAN
METHOD:PUBLISH
X-WR-CALNAME:Anglican Parish of New London
X-ORIGINAL-URL:http://www.nlparish.org
X-WR-CALDESC:Events for Anglican Parish of New London
BEGIN:VTIMEZONE
TZID:America/Halifax
BEGIN:DAYLIGHT
TZOFFSETFROM:-0300
TZOFFSETTO:-0300
TZNAME:ADT
DTSTART:20230101T000000
END:DAYLIGHT
END:VTIMEZONE
BEGIN:VEVENT
DTSTART;VALUE=DATE:20230827
DTEND;VALUE=DATE:20230828
DTSTAMP:20260422T130600
CREATED:20230426T161835Z
LAST-MODIFIED:20230426T161835Z
UID:2351-1693094400-1693180799@www.nlparish.org
SUMMARY:Worship Times
DESCRIPTION:9 – St. Stephen’s HC; 11 – St. Thomas’ HC; 11 – St. Mark’s MP; 7 pm – St. Elizabeth’s HC
URL:http://www.nlparish.org/index.php/event/worship-times-173/
END:VEVENT
END:VCALENDAR