BEGIN:VCALENDAR
VERSION:2.0
PRODID:-//Anglican Parish of New London - ECPv5.14.1//NONSGML v1.0//EN
CALSCALE:GREGORIAN
METHOD:PUBLISH
X-WR-CALNAME:Anglican Parish of New London
X-ORIGINAL-URL:http://www.nlparish.org
X-WR-CALDESC:Events for Anglican Parish of New London
BEGIN:VTIMEZONE
TZID:America/Halifax
BEGIN:DAYLIGHT
TZOFFSETFROM:-0300
TZOFFSETTO:-0300
TZNAME:ADT
DTSTART:20230101T000000
END:DAYLIGHT
END:VTIMEZONE
BEGIN:VEVENT
DTSTART;VALUE=DATE:20230806
DTEND;VALUE=DATE:20230807
DTSTAMP:20260422T131947
CREATED:20230426T161653Z
LAST-MODIFIED:20230426T161653Z
UID:2345-1691280000-1691366399@www.nlparish.org
SUMMARY:Worship Times
DESCRIPTION:9 – St. Stephen’s MP; 11 – St. Thomas MP; 11 – St. Mark’s MP
URL:http://www.nlparish.org/index.php/event/worship-times-171/
END:VEVENT
END:VCALENDAR