BEGIN:VCALENDAR
VERSION:2.0
PRODID:-//Anglican Parish of New London - ECPv5.14.1//NONSGML v1.0//EN
CALSCALE:GREGORIAN
METHOD:PUBLISH
X-WR-CALNAME:Anglican Parish of New London
X-ORIGINAL-URL:http://www.nlparish.org
X-WR-CALDESC:Events for Anglican Parish of New London
BEGIN:VTIMEZONE
TZID:America/Halifax
BEGIN:DAYLIGHT
TZOFFSETFROM:-0300
TZOFFSETTO:-0300
TZNAME:ADT
DTSTART:20240101T000000
END:DAYLIGHT
END:VTIMEZONE
BEGIN:VEVENT
DTSTART;VALUE=DATE:20240929
DTEND;VALUE=DATE:20240930
DTSTAMP:20260422T164229
CREATED:20240828T220116Z
LAST-MODIFIED:20240828T220116Z
UID:3097-1727568000-1727654399@www.nlparish.org
SUMMARY:Worship Time
DESCRIPTION:11 am – Parish Worship at St. Stephen’s HE
URL:http://www.nlparish.org/index.php/event/worship-time-20/
END:VEVENT
END:VCALENDAR