BEGIN:VCALENDAR
VERSION:2.0
PRODID:-//Anglican Parish of New London - ECPv5.14.1//NONSGML v1.0//EN
CALSCALE:GREGORIAN
METHOD:PUBLISH
X-WR-CALNAME:Anglican Parish of New London
X-ORIGINAL-URL:http://www.nlparish.org
X-WR-CALDESC:Events for Anglican Parish of New London
BEGIN:VTIMEZONE
TZID:America/Halifax
BEGIN:DAYLIGHT
TZOFFSETFROM:-0300
TZOFFSETTO:-0300
TZNAME:ADT
DTSTART:20210101T000000
END:DAYLIGHT
END:VTIMEZONE
BEGIN:VEVENT
DTSTART;TZID=America/Halifax:20210921T190000
DTEND;TZID=America/Halifax:20210921T200000
DTSTAMP:20260420T233745
CREATED:20210827T222317Z
LAST-MODIFIED:20210827T222317Z
UID:1898-1632250800-1632254400@www.nlparish.org
SUMMARY:Lay Minister's Training Course
DESCRIPTION:
URL:http://www.nlparish.org/index.php/event/lay-ministers-training-course/
END:VEVENT
END:VCALENDAR