BEGIN:VCALENDAR
VERSION:2.0
PRODID:-//Anglican Parish of New London - ECPv5.14.1//NONSGML v1.0//EN
CALSCALE:GREGORIAN
METHOD:PUBLISH
X-WR-CALNAME:Anglican Parish of New London
X-ORIGINAL-URL:http://www.nlparish.org
X-WR-CALDESC:Events for Anglican Parish of New London
BEGIN:VTIMEZONE
TZID:America/Halifax
BEGIN:DAYLIGHT
TZOFFSETFROM:-0300
TZOFFSETTO:-0300
TZNAME:ADT
DTSTART:20230101T000000
END:DAYLIGHT
END:VTIMEZONE
BEGIN:VEVENT
DTSTART;TZID=America/Halifax:20230917T190000
DTEND;TZID=America/Halifax:20230917T190000
DTSTAMP:20260422T145340
CREATED:20230823T225450Z
LAST-MODIFIED:20230823T225450Z
UID:2531-1694977200-1694977200@www.nlparish.org
SUMMARY:Isle-a-Chords Reunion Celebration Song Service
DESCRIPTION:At St. John’s Presbyterian Church\, New London
URL:http://www.nlparish.org/index.php/event/isle-a-chords-reunion-celebration-song-service/
END:VEVENT
END:VCALENDAR