BEGIN:VCALENDAR
VERSION:2.0
PRODID:-//Anglican Parish of New London - ECPv5.14.1//NONSGML v1.0//EN
CALSCALE:GREGORIAN
METHOD:PUBLISH
X-WR-CALNAME:Anglican Parish of New London
X-ORIGINAL-URL:http://www.nlparish.org
X-WR-CALDESC:Events for Anglican Parish of New London
BEGIN:VTIMEZONE
TZID:America/Halifax
BEGIN:DAYLIGHT
TZOFFSETFROM:-0300
TZOFFSETTO:-0300
TZNAME:ADT
DTSTART:20230101T000000
END:DAYLIGHT
END:VTIMEZONE
BEGIN:VEVENT
DTSTART;TZID=America/Halifax:20230406T120000
DTEND;TZID=America/Halifax:20230406T122000
DTSTAMP:20260422T063443
CREATED:20230322T150145Z
LAST-MODIFIED:20230322T150145Z
UID:2291-1680782400-1680783600@www.nlparish.org
SUMMARY:Holy Week Ecumenical Worship
DESCRIPTION:At St. Mark’s
URL:http://www.nlparish.org/index.php/event/holy-week-ecumenical-worship-8/
END:VEVENT
END:VCALENDAR