BEGIN:VCALENDAR
VERSION:2.0
PRODID:-//Anglican Parish of New London - ECPv5.14.1//NONSGML v1.0//EN
CALSCALE:GREGORIAN
METHOD:PUBLISH
X-WR-CALNAME:Anglican Parish of New London
X-ORIGINAL-URL:http://www.nlparish.org
X-WR-CALDESC:Events for Anglican Parish of New London
BEGIN:VTIMEZONE
TZID:America/Halifax
BEGIN:DAYLIGHT
TZOFFSETFROM:-0300
TZOFFSETTO:-0300
TZNAME:ADT
DTSTART:20240101T000000
END:DAYLIGHT
END:VTIMEZONE
BEGIN:VEVENT
DTSTART;TZID=America/Halifax:20241003T100000
DTEND;TZID=America/Halifax:20241003T110000
DTSTAMP:20260422T133121
CREATED:20240918T132522Z
LAST-MODIFIED:20240918T132522Z
UID:3165-1727949600-1727953200@www.nlparish.org
SUMMARY:Bible Study
DESCRIPTION:At St. Mark’s
URL:http://www.nlparish.org/index.php/event/bible-study-137/
END:VEVENT
END:VCALENDAR