BEGIN:VCALENDAR
VERSION:2.0
PRODID:-//Anglican Parish of New London - ECPv5.14.1//NONSGML v1.0//EN
CALSCALE:GREGORIAN
METHOD:PUBLISH
X-WR-CALNAME:Anglican Parish of New London
X-ORIGINAL-URL:http://www.nlparish.org
X-WR-CALDESC:Events for Anglican Parish of New London
BEGIN:VTIMEZONE
TZID:America/Halifax
BEGIN:DAYLIGHT
TZOFFSETFROM:-0300
TZOFFSETTO:-0300
TZNAME:ADT
DTSTART:20240101T000000
END:DAYLIGHT
END:VTIMEZONE
BEGIN:VEVENT
DTSTART;TZID=America/Halifax:20240912T100000
DTEND;TZID=America/Halifax:20240912T110000
DTSTAMP:20260423T103513
CREATED:20240828T220554Z
LAST-MODIFIED:20240828T220554Z
UID:3111-1726135200-1726138800@www.nlparish.org
SUMMARY:Bible Study
DESCRIPTION:At St. Mark’s
URL:http://www.nlparish.org/index.php/event/bible-study-134/
END:VEVENT
END:VCALENDAR