BEGIN:VCALENDAR
VERSION:2.0
PRODID:-//Anglican Parish of New London - ECPv5.14.1//NONSGML v1.0//EN
CALSCALE:GREGORIAN
METHOD:PUBLISH
X-WR-CALNAME:Anglican Parish of New London
X-ORIGINAL-URL:http://www.nlparish.org
X-WR-CALDESC:Events for Anglican Parish of New London
BEGIN:VTIMEZONE
TZID:America/Halifax
BEGIN:DAYLIGHT
TZOFFSETFROM:-0300
TZOFFSETTO:-0300
TZNAME:ADT
DTSTART:20240101T000000
END:DAYLIGHT
END:VTIMEZONE
BEGIN:VEVENT
DTSTART;TZID=America/Halifax:20240529T103000
DTEND;TZID=America/Halifax:20240529T113000
DTSTAMP:20260423T040155
CREATED:20240424T161418Z
LAST-MODIFIED:20240424T161418Z
UID:2934-1716978600-1716982200@www.nlparish.org
SUMMARY:Bible Study
DESCRIPTION:at the Rectory and online
URL:http://www.nlparish.org/index.php/event/bible-study-129/
END:VEVENT
END:VCALENDAR